BEGIN:VCALENDAR
VERSION:2.0
PRODID:-//
CALSCALE:GREGORIAN
X-WR-TIMEZONE:Europe/Berlin
BEGIN:VEVENT
LOCATION:Nica Jazz Club\, Alter Wall 20\, 20457\, Hamburg\, Germany
DESCRIPTION:Ein unvergesslicher Abend voll kraftvollem Gesang\, zeitloser Grooves und roher Emotionen. • Adi Wolf (voc) · Jean Yanochkin (keys) · Patrick Pagels (git) · Felix Behrendt (b) · Ibo Nduwa (dr)
DTSTART:20260613T200000
DTEND:20260613T220000
SUMMARY:Adi Wolf presents Soul on Fire
URL;VALUE=URI:https://nica-jazzclub.de/de/events/adi-wolf-presents-soul-on-fire-461
DTSTAMP:20260421T171033
UID:69e7af89b0bce
END:VEVENT
END:VCALENDAR