BEGIN:VCALENDAR
VERSION:2.0
PRODID:-//
CALSCALE:GREGORIAN
X-WR-TIMEZONE:Europe/Berlin
BEGIN:VEVENT
LOCATION:Nica Jazz Club\, Alter Wall 20\, 20457\, Hamburg\, Germany
DESCRIPTION:Alma Naidu präsentiert eine feinfühlige Mischung schwebend\, swingender Standard-Versionen und eigenen\, poetischen Kompositionen. Eindringlicher Songwriter-Jazz. • Alma Naidu (voc\, keys) · Ferdinand Kirner (git) · Florian Stierstorfer (b) · Valentin Renner (dr)
DTSTART:20260628T180000
DTEND:20260628T200000
SUMMARY:Alma Naidu
URL;VALUE=URI:https://nica-jazzclub.de/de/events/alma-naidu-447
DTSTAMP:20260421T192759
UID:69e7cfbfb1a30
END:VEVENT
END:VCALENDAR