BEGIN:VCALENDAR
VERSION:2.0
PRODID:-//
CALSCALE:GREGORIAN
X-WR-TIMEZONE:Europe/Berlin
BEGIN:VEVENT
LOCATION:White Cube Bergedorf\, Kurt-A.-Körber-Chaussee 73\, 21033\, Hamburg\, Germany
DESCRIPTION:dynamisches Ensemble aus Bern in der Schweiz · introspektive Erkundungen der dunkleren Seiten des Lebens · Kontraste aus kantigen Rhythmen\, treibenden Basslinien\, weitläufigen Melodien und sanften Klanglandschaften • Paul Butscher (trp) · Anna Kalk (git) · Loïc Baillod (b) · Xavier Kaeser (dr)
DTSTART:20260613T200000
DTEND:20260613T220000
SUMMARY:Anna Kalk Quartett
URL;VALUE=URI:https://whitecube-bergedorf.de/index.php?id=3
DTSTAMP:20260421T170506
UID:69e7ae42271f1
END:VEVENT
END:VCALENDAR