BEGIN:VCALENDAR
VERSION:2.0
PRODID:-//
CALSCALE:GREGORIAN
X-WR-TIMEZONE:Europe/Berlin
BEGIN:VEVENT
LOCATION:White Cube Bergedorf\, Kurt-A.-Körber-Chaussee 73\, 21033\, Hamburg\, Germany
DESCRIPTION:hochimprovisatorischer undogmatischer Ansatz · Jazz · Indie · Verschmelzung von Jazz\, Dub\, Krautrock und Funk · manchmal tanzbar\, manchmal melancholisch • Armando (trp) · Kota (git) · Peter (p) · Florian (b) · Francisco (dr)
DTSTART:20260620T200000
DTEND:20260620T220000
SUMMARY:Ask Gonzalo
URL;VALUE=URI:https://whitecube-bergedorf.de/index.php?id=3
DTSTAMP:20260421T170956
UID:69e7af6460344
END:VEVENT
END:VCALENDAR