BEGIN:VCALENDAR
VERSION:2.0
PRODID:-//
CALSCALE:GREGORIAN
X-WR-TIMEZONE:Europe/Berlin
BEGIN:VEVENT
LOCATION:Alte Druckerei Ottensen\, Bahrenfelder Straße 73 D\, 22765\, Hamburg\, Germany
DESCRIPTION:Neben Eigenkompositionen verbeugen sich die Musiker immer wieder vor den Größen ihrer Zunft wie Wayne Shorter\, John Coltrane \, Billy Strayhorn u.vm. Das Quintett spielt in der Tradition der Amerikanischen Avant Garde der 50 – 70 er Jahre. Neben Eigenkompositionen werden auch Stücke von Billy Strayhorn bis Wayne Shorter zu hören sein. • Michael Leuschner (trp) · Frank Delle (sax) · Buggy Braune (p) · Paul Imm (b) · Heinz Lichius (dr)
DTSTART:20260519T200000
DTEND:20260519T220000
SUMMARY:Austerjazzquintett
URL;VALUE=URI:https://www.alte-druckerei-ottensen.de/events/austerjazzquintett-im-mai/
DTSTAMP:20260421T143648
UID:69e78b80adf65
END:VEVENT
END:VCALENDAR