BEGIN:VCALENDAR
VERSION:2.0
PRODID:-//
CALSCALE:GREGORIAN
X-WR-TIMEZONE:Europe/Berlin
BEGIN:VEVENT
LOCATION:Nica Jazz Club\, Alter Wall 20\, 20457\, Hamburg\, Germany
DESCRIPTION:Axel Zwingenberger ist der ungekrönte König des Boogie-Woogie. Wie kein zweiter versteht er es\, durch sein kraftvoll-dynamisches und einfühlsames Pianospiel den echten\, authentischen Boogie-Woogie auf die Bühne zu bringen. • Axel Zwingenberger (p)
DTSTART:20260630T200000
DTEND:20260630T220000
SUMMARY:Axel Zwingenberger
URL;VALUE=URI:https://nica-jazzclub.de/de/events/axel-zwingenberger-397
DTSTAMP:20260421T192707
UID:69e7cf8b83b3e
END:VEVENT
END:VCALENDAR