BEGIN:VCALENDAR
VERSION:2.0
PRODID:-//
CALSCALE:GREGORIAN
X-WR-TIMEZONE:Europe/Berlin
BEGIN:VEVENT
LOCATION:Birdland\, Gärtnerstraße 122\, 20253\, Hamburg\, Germany
DESCRIPTION:Eigenkompositionen sowie Straight-Ahead-Jazz beeinflusste Werke schaffen einen Klang\, der Lyrik\, Energie und starke Interaktion in Einklang bringt. • Nikita Sipiagin (as\, ss) · Lajos Meinberg (p) · Johann Greve (b) · Genius Wesley (dr)
DTSTART:20260523T203000
DTEND:20260523T220000
SUMMARY:Berlin Basel Connection feat. Nikita Spiagin
URL;VALUE=URI:
DTSTAMP:20260421T170837
UID:69e7af1571c14
END:VEVENT
END:VCALENDAR