BEGIN:VCALENDAR
VERSION:2.0
PRODID:-//
CALSCALE:GREGORIAN
X-WR-TIMEZONE:Europe/Berlin
BEGIN:VEVENT
LOCATION:Kunstklinik\, Martinistraße 44a\, 20251\, Hamburg\, Germany
DESCRIPTION:Unter der Leitung von Sebastian Drescher gibt es funky Disco-Klassiker wie „Fantasy“ von Earth Wind &amp\; Fire zu hören\, sowie bekannte Pop-Songs wie „Happy“ von Pharell Williams. • 
DTSTART:20260612T200000
DTEND:20260612T220000
SUMMARY:Bigband Sidewinder (Jazz)
URL;VALUE=URI:https://kunstklinik.hamburg/termin/konzert-bigband-sidewinder-jazz/
DTSTAMP:20260421T192341
UID:69e7cebd582de
END:VEVENT
END:VCALENDAR