BEGIN:VCALENDAR
VERSION:2.0
PRODID:-//
CALSCALE:GREGORIAN
X-WR-TIMEZONE:Europe/Berlin
BEGIN:VEVENT
LOCATION:Nica Jazz Club\, Alter Wall 20\, 20457\, Hamburg\, Germany
DESCRIPTION:Bobby Sparks verfügt über ein großes musikalisches Vokabular\, und er füllt es mit einem veritablen Genre-Potpourri. Neben Jazz\, Funk und Fusion findet in seiner Musik auch Soul\, Gospel und HipHop seinen Platz. • Keith Anderson (sax) · Jameel Davis (git) · Bobby Sparks (keys) · Jay McK (b) · Adarian Roberts (dr)
DTSTART:20260625T200000
DTEND:20260625T220000
SUMMARY:Bobby Sparks II
URL;VALUE=URI:https://nica-jazzclub.de/de/events/bobby-sparks-ii-das-konzert-musste-auf-den-26-juni-verschoben-werden-379
DTSTAMP:20260421T154958
UID:69e79ca6e4139
END:VEVENT
END:VCALENDAR