BEGIN:VCALENDAR
VERSION:2.0
PRODID:-//
CALSCALE:GREGORIAN
X-WR-TIMEZONE:Europe/Berlin
BEGIN:VEVENT
LOCATION:Nica Jazz Club\, Alter Wall 20\, 20457\, Hamburg\, Germany
DESCRIPTION:Das "Bugge Wesseltoft Special Trio" mit Arild Andersen und Gard Nilssen präsentiert das Repertoire von Bugge Wesseltofts aktuellem Album in einer klassischen Klaviertrio-Besetzung. • Bugge Wesseltoft (keys) · Arild Andersen (b) · Gard Nilssen (dr)
DTSTART:20260602T200000
DTEND:20260602T220000
SUMMARY:Bugge Wesseltoft - Arild Andersen - Gard Nilssen
URL;VALUE=URI:https://nica-jazzclub.de/de/events/bugge-wesseltoft-arild-andersen-gard-nilssen-448
DTSTAMP:20260421T154534
UID:69e79b9eb3858
END:VEVENT
END:VCALENDAR