BEGIN:VCALENDAR
VERSION:2.0
PRODID:-//
CALSCALE:GREGORIAN
X-WR-TIMEZONE:Europe/Berlin
BEGIN:VEVENT
LOCATION:Alte Druckerei Ottensen\, Bahrenfelder Straße 73 D\, 22765\, Hamburg\, Germany
DESCRIPTION:Mit „Color is a Gift“ stellt der brasilianische Jazzgitarrist sein zweites Album als Bandleader vor – eine musikalische Reise durch Klangfarben\, Atmosphären und persönliche Geschichten. • Gabriel Coburger (ts\, fl) · Paul Beskers (as\, ss\, fl) · Lucas Etcheverria (git) · Lucas Kolbe (b) · Tobias Frohnhöfer (dr)
DTSTART:20260501T200000
DTEND:20260501T220000
SUMMARY:Color is a gift
URL;VALUE=URI:https://www.alte-druckerei-ottensen.de/events/color-is-a-gift/
DTSTAMP:20260421T143648
UID:69e78b80aa283
END:VEVENT
END:VCALENDAR