BEGIN:VCALENDAR
VERSION:2.0
PRODID:-//
CALSCALE:GREGORIAN
X-WR-TIMEZONE:Europe/Berlin
BEGIN:VEVENT
LOCATION:JazzHall\, Harvestehuder Weg 12\, 20148\, Hamburg\, Germany
DESCRIPTION:Im Zentrum steht die klangliche Individualität der einzelnen Musiker:innen – und das\, was sie im Dialog zusammenführt: geteilte musikalische Erfahrungen\, gegenseitiges Vertrauen und eine langjährige Freundschaft. • 
DTSTART:20260513T193000
DTEND:20260513T210000
SUMMARY:Contact:Contiguity (Abschlusskonzert BA)
URL;VALUE=URI:https://jazzhall.hfmt-hamburg.de/kalender
DTSTAMP:20260421T143321
UID:69e78ab1a7a70
END:VEVENT
END:VCALENDAR