BEGIN:VCALENDAR
VERSION:2.0
PRODID:-//
CALSCALE:GREGORIAN
X-WR-TIMEZONE:Europe/Berlin
BEGIN:VEVENT
LOCATION:Nica Jazz Club\, Alter Wall 20\, 20457\, Hamburg\, Germany
DESCRIPTION:Inspiriert von Klang\, Duft\, Haptik und schier unendlichen Farbnuancen\, widmet Stelter sein siebtes Album dem organischen Material Holz. Eine atmosphärische Reflexion\, die durch Wälder\, Weinberge\, über die Alpen und bis an den Bosporus führt. • Menna Mulugeta (voc) · Daniel Stelter (git) · Marc Inti (b) · Tommy Baldu (dr\, perc)
DTSTART:20260617T200000
DTEND:20260617T220000
SUMMARY:Daniel Stelter Trio ft. Menna Mulugeta
URL;VALUE=URI:https://nica-jazzclub.de/de/events/daniel-stelter-trio-ft-menna-mulugeta-462
DTSTAMP:20260421T192038
UID:69e7ce06b95f5
END:VEVENT
END:VCALENDAR