BEGIN:VCALENDAR
VERSION:2.0
PRODID:-//
CALSCALE:GREGORIAN
X-WR-TIMEZONE:Europe/Berlin
BEGIN:VEVENT
LOCATION:Alte Druckerei Ottensen\, Bahrenfelder Straße 73 D\, 22765\, Hamburg\, Germany
DESCRIPTION:Tadeusz Jakubowski lädt ein: in diesem Monat die Downtown Bigband. Ein besonderer Schwerpunkt werden selten gespielte Kompositionen und Arrangements von Gerry Mulligan sein\, die er in den fünfziger Jahren für die Stan Kenton Band schrieb. • 
DTSTART:20260505T200000
DTEND:20260505T220000
SUMMARY:Downtown Bigband
URL;VALUE=URI:https://www.alte-druckerei-ottensen.de/events/jazz-mit-der-downtown-bigband-2/
DTSTAMP:20260421T150745
UID:69e792c174d59
END:VEVENT
END:VCALENDAR