BEGIN:VCALENDAR
VERSION:2.0
PRODID:-//
CALSCALE:GREGORIAN
X-WR-TIMEZONE:Europe/Berlin
BEGIN:VEVENT
LOCATION:Brückenstern\, Stresemannstraße 133\, 22769\, Hamburg\, Germany
DESCRIPTION: • Gary Camplell (s) · Pouya Abdi (git) · Paul Imm (b) · Raffa Müller (dr)
DTSTART:20260805T200000
DTEND:20260805T220000
SUMMARY:Gary Campbell Quartet
URL;VALUE=URI:
DTSTAMP:20260421T165942
UID:69e7acfe457a1
END:VEVENT
END:VCALENDAR