BEGIN:VCALENDAR
VERSION:2.0
PRODID:-//
CALSCALE:GREGORIAN
X-WR-TIMEZONE:Europe/Berlin
BEGIN:VEVENT
LOCATION:Nica Jazz Club\, Alter Wall 20\, 20457\, Hamburg\, Germany
DESCRIPTION:Man verbindet mit dem Trio neben Django Reinhardt’s bekanntesten Klassikern auch eine einzigartige und spannende Mischung aus Eigenkompositionen\, Pop- Klassik- und sogar Rocksongs im Gypsy Jazz Gewand. So ergeben Stücke von Sting\, Michael Jackson oder aber auch von Frederic Chopin und aus Walt Disney Filmen eine spannende Mischung. • Gismo Graf (git) · Joschi Graf (git) · Joel Locher (b)
DTSTART:20260619T200000
DTEND:20260619T220000
SUMMARY:Gismo Graf Trio
URL;VALUE=URI:https://nica-jazzclub.de/de/events/gismo-graf-trio-445
DTSTAMP:20260421T192341
UID:69e7cebd53bbd
END:VEVENT
END:VCALENDAR