BEGIN:VCALENDAR
VERSION:2.0
PRODID:-//
CALSCALE:GREGORIAN
X-WR-TIMEZONE:Europe/Berlin
BEGIN:VEVENT
LOCATION:Markthaus Blankenese\, Blankeneser Bahnhofstraße 31A\, 22587\, Hamburg\, Germany
DESCRIPTION:Originals\, Kompositionen und Improvisiertes. Miles Davis bis Frank Zappa • Gerd Büttner (sax\, ewi) · Rainer Schefe (git\, b) · Sigi Schreiber (dr)<br>
DTSTART:20260530T200000
DTEND:20260530T220000
SUMMARY:HAO
URL;VALUE=URI:
DTSTAMP:20260421T122833
UID:69e76d714b706
END:VEVENT
END:VCALENDAR