BEGIN:VCALENDAR
VERSION:2.0
PRODID:-//
CALSCALE:GREGORIAN
X-WR-TIMEZONE:Europe/Berlin
BEGIN:VEVENT
LOCATION:Brückenstern\, Stresemannstraße 133\, 22769\, Hamburg\, Germany
DESCRIPTION:Das wird eine deutsch-dänische Sternstunde im „Brückenstern“. • Jesper Løvdal (ts ) · Gabriel Coburger (ts) · Martin Schack (Hammond Orgel) · Anders Mogensen (dr)
DTSTART:20260722T200000
DTEND:20260722T220000
SUMMARY:Hurra die Dänen kommen
URL;VALUE=URI:
DTSTAMP:20260421T164557
UID:69e7a9c516075
END:VEVENT
END:VCALENDAR