BEGIN:VCALENDAR
VERSION:2.0
PRODID:-//
CALSCALE:GREGORIAN
X-WR-TIMEZONE:Europe/Berlin
BEGIN:VEVENT
LOCATION:Alte Druckerei Ottensen\, Bahrenfelder Straße 73 D\, 22765\, Hamburg\, Germany
DESCRIPTION:Das Quartett verbindet eigene Kompositionen mit originellen Arrangements bekannter Jazzstandards. Auch die Texte werden neu gedacht und in einen heutigen\, gesellschaftlichen Kontext gestellt. Im gemeinsamen\, hierarchiefreien Arbeiten entsteht ein vielschichtiges Klangbild\, geprägt von den individuellen Handschriften der Musiker. • Jana Kütt (voc) · Glib Svyrydov (p\, synth) · Andres Alaru (b) · Pauls Pokratnieks (dr)<br>
DTSTART:20260526T200000
DTEND:20260526T220000
SUMMARY:I-95
URL;VALUE=URI:https://www.alte-druckerei-ottensen.de/events/jazz-mit-dem-glib-svyrydov-quartett/
DTSTAMP:20260421T144407
UID:69e78d37d292e
END:VEVENT
END:VCALENDAR