BEGIN:VCALENDAR
VERSION:2.0
PRODID:-//
CALSCALE:GREGORIAN
X-WR-TIMEZONE:Europe/Berlin
BEGIN:VEVENT
LOCATION:Alte Druckerei Ottensen\, Bahrenfelder Straße 73 D\, 22765\, Hamburg\, Germany
DESCRIPTION:Der neue Roman von Ulrike Almut Sandig „Im Orkan“ gibt die emotionale Richtung des Konzerts vor\, das Weltgewitter aus Kriegen und Rechtsruck treibt die Lyrikerin und die Band gleichermaßen um. Wie erleben sie diese unruhige Zeit? Entdecken sie in all dem Getöse auch Momente der Hoffnung\, sogar der Schönheit? Die Antworten der Poetin und der Musiker können mal hart und getrieben ausfallen\, dann aber ebenso nachdenklich und zärtlich. · Eine gemeinsame Abenteuerreise in die Welt der Sprache\, Klänge und Rhythmen. • feat. Ulrike Almut Sandig (lesung) · Kling Klong: Stephan Lamby (sax) · Stefan Hentz (git) · Roland Musolff (keys) · Sascha Siebenmorgen (b) · Yogi Jockusch (perc)
DTSTART:20260509T200000
DTEND:20260509T220000
SUMMARY:Im Orkan - Das Literaturkonzert
URL;VALUE=URI:https://www.alte-druckerei-ottensen.de/events/im-orkan-das-literatur-jazzkonzert/
DTSTAMP:20260421T144306
UID:69e78cfa20ece
END:VEVENT
END:VCALENDAR