BEGIN:VCALENDAR
VERSION:2.0
PRODID:-//
CALSCALE:GREGORIAN
X-WR-TIMEZONE:Europe/Berlin
BEGIN:VEVENT
LOCATION:Brückenstern\, Stresemannstraße 133\, 22769\, Hamburg\, Germany
DESCRIPTION:Mit seinem Quartett Intelligent Design verbindet der Australier Pethick Jazz mit Rock Einflüssen und souligen Grooves. • William Pethick (trb) · Lucas Etcheverria (git) · Lennart Meyer (b\, voc) · Hennig Katz (dr)
DTSTART:20260729T200000
DTEND:20260729T220000
SUMMARY:Intelligent Design
URL;VALUE=URI:
DTSTAMP:20260421T165635
UID:69e7ac43b16dd
END:VEVENT
END:VCALENDAR