BEGIN:VCALENDAR
VERSION:2.0
PRODID:-//
CALSCALE:GREGORIAN
X-WR-TIMEZONE:Europe/Berlin
BEGIN:VEVENT
LOCATION:JazzHall\, Harvestehuder Weg 12\, 20148\, Hamburg\, Germany
DESCRIPTION:Set 1: Eine Klangsprache\, die klare Strukturen mit offenen Räumen verbindet und Spannung aus kontrollierter Form und improvisatorischer Beweglichkeit gewinnt.<br>Set 2: Im Konzert entfaltet sich ein lebendiger Dialog: Erfahrung\, Vertrauen und Spielfreude verdichten sich zu einem unmittelbaren\, überraschenden Zusammenspiel. • Set 1: Martin Löcken (sax) · Christian Höhn (trp) · Kirill Kretsu (p) · Lucas Kolbe (b) · Jacob Wagener (dr)<br>Set 2: Aydin Bayramoğlu (vl\, va) · Julian Glaner (b)
DTSTART:20260504T193000
DTEND:20260504T220000
SUMMARY:Jacob Wagener Trio | Bayramoğlu-Glaner meet (Abschlusskonzert BA)
URL;VALUE=URI:https://jazzhall.hfmt-hamburg.de/kalender
DTSTAMP:20260421T144332
UID:69e78d14d69e4
END:VEVENT
END:VCALENDAR