BEGIN:VCALENDAR
VERSION:2.0
PRODID:-//
CALSCALE:GREGORIAN
X-WR-TIMEZONE:Europe/Berlin
BEGIN:VEVENT
LOCATION:Nica Jazz Club\, Alter Wall 20\, 20457\, Hamburg\, Germany
DESCRIPTION:Es gab eine Änderung in der Besetzung: Der Gastsaxofonist Christof Lauer wird mit dem ebenfalls genialen Saxofonisten Tony Lakatosch getauscht! Der Pianist Jasper van't Hof ist seit Jahrzehnten einer der führenden Vertreter des europäischen Jazz! • Jasper van`t Hof (p) · Stefan Lievestro (b) · Jamie Peet (dr) · feat. Tony Lakatos (s)
DTSTART:20260428T200000
DTEND:20260428T220000
SUMMARY:Jasper van`t Hof Quartet ft. Tony Lakatos
URL;VALUE=URI:https://nica-jazzclub.de/de/events/jasper-vant-hof-quartet-ft-tony-lakatos-411
DTSTAMP:20260423T090236
UID:69e9e02ca89bd
END:VEVENT
END:VCALENDAR