BEGIN:VCALENDAR
VERSION:2.0
PRODID:-//
CALSCALE:GREGORIAN
X-WR-TIMEZONE:Europe/Berlin
BEGIN:VEVENT
LOCATION:Kranhaus Elmshorn\, Schloßstraße 8\, 25336\, Elmshorn\, Germany
DESCRIPTION: • 
DTSTART:20260731T200000
DTEND:20260731T220000
SUMMARY:Jazz am Freitag: Mellow Tunes
URL;VALUE=URI:https://www.kranhaus-elmshorn.de/veranstaltungen/
DTSTAMP:20260421T192017
UID:69e7cdf198287
END:VEVENT
END:VCALENDAR