BEGIN:VCALENDAR
VERSION:2.0
PRODID:-//
CALSCALE:GREGORIAN
X-WR-TIMEZONE:Europe/Berlin
BEGIN:VEVENT
LOCATION:Kranhaus Elmshorn\, Schloßstraße 8\, 25336\, Elmshorn\, Germany
DESCRIPTION: • 
DTSTART:20260925T200000
DTEND:20260925T220000
SUMMARY:Jazz am Freitag: Newgrooves
URL;VALUE=URI:https://www.kranhaus-elmshorn.de/veranstaltungen/
DTSTAMP:20260421T191727
UID:69e7cd47b2daf
END:VEVENT
END:VCALENDAR