BEGIN:VCALENDAR
VERSION:2.0
PRODID:-//
CALSCALE:GREGORIAN
X-WR-TIMEZONE:Europe/Berlin
BEGIN:VEVENT
LOCATION:Brückenstern\, Stresemannstraße 133\, 22769\, Hamburg\, Germany
DESCRIPTION:Amelia ist ein Hamburger Jazz Quartett\, das sich mit Eigenkompositionen dem Puls einer jungen\, urbanen Jazzszene hingibt. • Lennart Micheel (p\, rhodes) · Anton Deyß (git) · Melanie Streitmatter (b) · Henning Katz (dr)
DTSTART:20260501T200000
DTEND:20260501T220000
SUMMARY:Jazz Kitchen presents: Amelia
URL;VALUE=URI:https://brueckenstern.info/jazz-kitchen-praesentiert-amelia/
DTSTAMP:20260421T193234
UID:69e7d0d2a3ced
END:VEVENT
END:VCALENDAR