BEGIN:VCALENDAR
VERSION:2.0
PRODID:-//
CALSCALE:GREGORIAN
X-WR-TIMEZONE:Europe/Berlin
BEGIN:VEVENT
LOCATION:JazzHall\, Harvestehuder Weg 12\, 20148\, Hamburg\, Germany
DESCRIPTION:Inspirationen der New York Voices treffen auf Jazzstandards aus dem Great American Songbook sowie Akzente aus Latin und Gospel. Zu hören sind Kompositionen von John Kelley\, Duke Ellington und Gene Purling sowie Arrangements von Paris Rutherford\, Roger Emerson und Chormitgliedern. • 
DTSTART:20260505T193000
DTEND:20260505T213000
SUMMARY:Jazzchor »Body & Soul« + Band
URL;VALUE=URI:https://jazzhall.hfmt-hamburg.de/kalender
DTSTAMP:20260421T143937
UID:69e78c29d6e2e
END:VEVENT
END:VCALENDAR