BEGIN:VCALENDAR
VERSION:2.0
PRODID:-//
CALSCALE:GREGORIAN
X-WR-TIMEZONE:Europe/Berlin
BEGIN:VEVENT
LOCATION:Nica Jazz Club\, Alter Wall 20\, 20457\, Hamburg\, Germany
DESCRIPTION:Unter der Leitung von Dirk Bleese präsentiert die JazzWerk Big Band einen mitreißenden Querschnitt aus Modern Mainstream und Contemporary European Jazz. • 
DTSTART:20260604T200000
DTEND:20260604T220000
SUMMARY:JazzWerk Big Band
URL;VALUE=URI:https://nica-jazzclub.de/de/events/jazzwerk-big-band-454
DTSTAMP:20260421T154700
UID:69e79bf4cf222
END:VEVENT
END:VCALENDAR