BEGIN:VCALENDAR
VERSION:2.0
PRODID:-//
CALSCALE:GREGORIAN
X-WR-TIMEZONE:Europe/Berlin
BEGIN:VEVENT
LOCATION:Nica Jazz Club\, Alter Wall 20\, 20457\, Hamburg\, Germany
DESCRIPTION:Diese Band ist lyrisch und verspielt\, wild und unbändig. • Daniel Manrique-Smith (fl) · Johann May (git) · Ben Tai Trawinski (b\, moog) · Simon Scheibel (dr)
DTSTART:20260605T200000
DTEND:20260605T220000
SUMMARY:Jin Jim
URL;VALUE=URI:https://nica-jazzclub.de/de/events/jin-jim-381
DTSTAMP:20260421T170843
UID:69e7af1bd0632
END:VEVENT
END:VCALENDAR