BEGIN:VCALENDAR
VERSION:2.0
PRODID:-//
CALSCALE:GREGORIAN
X-WR-TIMEZONE:Europe/Berlin
BEGIN:VEVENT
LOCATION:Brückenstern\, Stresemannstraße 133\, 22769\, Hamburg\, Germany
DESCRIPTION:Zeitgenössischer Jazz\, europäisch gedacht\, unkonventionell gespielt. • Will Rees-Jones (ts) · Kalle Kalima (git) · Moritz Schöwing (p) · Julian Eingang (b) · Jonas Grätzer (dr)
DTSTART:20260826T200000
DTEND:20260826T220000
SUMMARY:Jonas Grätzer Quartett feat. Kalle Kalima
URL;VALUE=URI:
DTSTAMP:20260421T192332
UID:69e7ceb469df5
END:VEVENT
END:VCALENDAR