BEGIN:VCALENDAR
VERSION:2.0
PRODID:-//
CALSCALE:GREGORIAN
X-WR-TIMEZONE:Europe/Berlin
BEGIN:VEVENT
LOCATION:Brückenstern\, Stresemannstraße 133\, 22769\, Hamburg\, Germany
DESCRIPTION:Jazz-Funk &amp\; Fusion Beats Without any Compromise. • Kamil Husyainov (s) · Aydin Bayramoglu (keys\, vl) · Vadims Dmitrijevs  (trb) · Karl Pennar (git) · Jonathan Ihlenfeld Cuniado (b) · Bastian Menz (dr)
DTSTART:20260513T200000
DTEND:20260513T220000
SUMMARY:KAYD
URL;VALUE=URI:
DTSTAMP:20260421T144454
UID:69e78d663f1cc
END:VEVENT
END:VCALENDAR