BEGIN:VCALENDAR
VERSION:2.0
PRODID:-//
CALSCALE:GREGORIAN
X-WR-TIMEZONE:Europe/Berlin
BEGIN:VEVENT
LOCATION:Brückenstern\, Stresemannstraße 133\, 22769\, Hamburg\, Germany
DESCRIPTION:Groovender Puls\, bisweilen vertrackten Rhythmen oder assoziativ in Flächen schwebend. • Sven Kerschek (git) · Mischa Schumann (p) · Giorgi Kiknadze (b) · Heinz Lichius (dr)
DTSTART:20260527T200000
DTEND:20260527T220000
SUMMARY:Kerschek │ Kiknadze │ Lichius│ Schumann
URL;VALUE=URI:
DTSTAMP:20260421T155635
UID:69e79e330923b
END:VEVENT
END:VCALENDAR