BEGIN:VCALENDAR
VERSION:2.0
PRODID:-//
CALSCALE:GREGORIAN
X-WR-TIMEZONE:Europe/Berlin
BEGIN:VEVENT
LOCATION:Nica Jazz Club\, Alter Wall 20\, 20457\, Hamburg\, Germany
DESCRIPTION:Da hebt europäische Musiktradition mit Klassik den Jazz\, Swing\, Bolero\, Afro- und Latin-Jazz und die gesamte rhythmische und melodische Vielfalt kubanischer Musik in neue Sphären. Klassiker der Musikgeschichte erwachen in ungewohntem Klanggewand zu neuer Lebendigkeit. • Jorge Luis Pacheco (p) · Kilian Forster (b) · Miguel Altamar (dr) · Alexis Herrera Estevez (timbales\, bongos) · Elio Rodriguez Luis (congas)
DTSTART:20260626T200000
DTEND:20260626T220000
SUMMARY:Klazz Brothers & Cuba Percussion
URL;VALUE=URI:https://nica-jazzclub.de/de/events/klazz-brothers-cuba-percussion-465
DTSTAMP:20260421T192644
UID:69e7cf7486ad9
END:VEVENT
END:VCALENDAR