BEGIN:VCALENDAR
VERSION:2.0
PRODID:-//
CALSCALE:GREGORIAN
X-WR-TIMEZONE:Europe/Berlin
BEGIN:VEVENT
LOCATION:Alte Druckerei Ottensen\, Bahrenfelder Straße 73 D\, 22765\, Hamburg\, Germany
DESCRIPTION:Im Zentrum dieser Trio-Formation stehen ausgewählte Lieblingsstücke aus dem American Songbook. Bewusst nur sparsam arrangiert\, eröffnen sie umso mehr Raum für spontane Gestaltung\, feine Nuancen und lebendige Improvisation. • Ulita Knaus (voc) · Johannes Wennrich (git) · Thomas Biller (b)
DTSTART:20260521T200000
DTEND:20260521T220000
SUMMARY:Knaus/Wennrich/Biller
URL;VALUE=URI:https://www.alte-druckerei-ottensen.de/events/jazzsongs-2/
DTSTAMP:20260421T143505
UID:69e78b1973d59
END:VEVENT
END:VCALENDAR