BEGIN:VCALENDAR
VERSION:2.0
PRODID:-//
CALSCALE:GREGORIAN
X-WR-TIMEZONE:Europe/Berlin
BEGIN:VEVENT
LOCATION:Brückenstern\, Stresemannstraße 133\, 22769\, Hamburg\, Germany
DESCRIPTION:In ungewöhnlicher Triobesetzung vereinen die drei Musikerinnen ihre Leidenschaft für freie Improvisation\, starke Melodien und fragile Klangkonstrukte. • Lisa Stick (tba) · Lisa Wulff (b) · Lisa Wilhelm (dr)
DTSTART:20260819T200000
DTEND:20260819T220000
SUMMARY:Lisa Trio
URL;VALUE=URI:
DTSTAMP:20260421T170146
UID:69e7ad7ab2b3e
END:VEVENT
END:VCALENDAR