BEGIN:VCALENDAR
VERSION:2.0
PRODID:-//
CALSCALE:GREGORIAN
X-WR-TIMEZONE:Europe/Berlin
BEGIN:VEVENT
LOCATION:Brückenstern\, Stresemannstraße 133\, 22769\, Hamburg\, Germany
DESCRIPTION: • Martin Löcken (s) · David Weissglas (p) · Thiago Duarte (b) · Jan Zeimetz (dr)<br>
DTSTART:20260812T200000
DTEND:20260812T220000
SUMMARY:Löcken │Weissglas │Duarte │Zeimetz
URL;VALUE=URI:
DTSTAMP:20260421T171026
UID:69e7af82eb684
END:VEVENT
END:VCALENDAR