BEGIN:VCALENDAR
VERSION:2.0
PRODID:-//
CALSCALE:GREGORIAN
X-WR-TIMEZONE:Europe/Berlin
BEGIN:VEVENT
LOCATION:Alte Druckerei Ottensen\, Bahrenfelder Straße 73 D\, 22765\, Hamburg\, Germany
DESCRIPTION:Wenn sich Posaune und Schlagzeug begegnen\, entsteht bei Lücker Schickentanz weit mehr als ein klassisches Duo: ein klanglicher Grenzraum zwischen akustischer Virtuosität und elektronischer Erweiterung. Andreas Schickentanz und Björn Lücker erforschen in ihrem Zusammenspiel die verborgenen Dimensionen des Klangs – mit Neugier\, Präzision und einer beeindruckenden musikalischen Freiheit. Ein Konzert für alle\, die Klang als Abenteuer begreifen. • Andreas Schickentanz (trb\, electr) · Björn Lücker (dr\, perc)
DTSTART:20260516T200000
DTEND:20260516T220000
SUMMARY:Lücker Schickentanz
URL;VALUE=URI:https://www.alte-druckerei-ottensen.de/events/ein-abend-mit-luecker-schickentanz/
DTSTAMP:20260421T143607
UID:69e78b57878e9
END:VEVENT
END:VCALENDAR