BEGIN:VCALENDAR
VERSION:2.0
PRODID:-//
CALSCALE:GREGORIAN
X-WR-TIMEZONE:Europe/Berlin
BEGIN:VEVENT
LOCATION:Brückenstern\, Stresemannstraße 133\, 22769\, Hamburg\, Germany
DESCRIPTION:Back to the roots\, die vier Musiker der Band haben ihre Lieblingsstücke aus dem American Songbook hervorgeholt und spielen an diesem Abend ihre sehr eigenen Interpretationen\, gemischt mit eigenen Stücken. • Adrian Hanack (s) · Andreas Dombert (git) · Lisa Wulff (b) · Valentin Renner (dr)
DTSTART:20260603T200000
DTEND:20260603T220000
SUMMARY:LWQ plays Standards
URL;VALUE=URI:
DTSTAMP:20260421T154534
UID:69e79b9eb0958
END:VEVENT
END:VCALENDAR