BEGIN:VCALENDAR
VERSION:2.0
PRODID:-//
CALSCALE:GREGORIAN
X-WR-TIMEZONE:Europe/Berlin
BEGIN:VEVENT
LOCATION:Brückenstern\, Stresemannstraße 133\, 22769\, Hamburg\, Germany
DESCRIPTION:Die Band lässt mit vor Spielfreude sprühenden Improvisationen Thelonious Monk wieder kongenial aufleben. • Rudy Mahall (bcl) · Gabriel Coburger (s) · tba (b) · Dirk-Achim Dhonau (dr)
DTSTART:20260617T200000
DTEND:20260617T220000
SUMMARY:Monk and More
URL;VALUE=URI:
DTSTAMP:20260421T171033
UID:69e7af89b1552
END:VEVENT
END:VCALENDAR