BEGIN:VCALENDAR
VERSION:2.0
PRODID:-//
CALSCALE:GREGORIAN
X-WR-TIMEZONE:Europe/Berlin
BEGIN:VEVENT
LOCATION:Birdland\, Gärtnerstraße 122\, 20253\, Hamburg\, Germany
DESCRIPTION:Ogún Afrobeat gilt als Spaniens Afrobeat-Pionier: ein genreübergreifendes Projekt aus Madrid. Ein Sound\, der Afrobeat-Wurzeln mit Funk\, Jazz\, Gnawa\, Nu-Soul\, Electro und Flamenco verbindet. • Frank David Santiuste Castañeda (trp) · Costanzo Laini (bs) · Pablo Hernández Ramos (as) · Mischa Schumann (keys) · Gherardo Alessio Catanzaro (keys) · Andre Edipo (git) · Vincenzo Apicella (b) · Akindimeji Onasanya (dr\, voc) · Arnaldo Lescay Castellanos (perc)
DTSTART:20260626T203000
DTEND:20260626T220000
SUMMARY:Ogún Afrobeat
URL;VALUE=URI:
DTSTAMP:20260421T170838
UID:69e7af1632674
END:VEVENT
END:VCALENDAR