BEGIN:VCALENDAR
VERSION:2.0
PRODID:-//
CALSCALE:GREGORIAN
X-WR-TIMEZONE:Europe/Berlin
BEGIN:VEVENT
LOCATION:Nica Jazz Club\, Alter Wall 20\, 20457\, Hamburg\, Germany
DESCRIPTION:Portable Infinity - tragbare Unendlichkeit - nennt sich das skandinavisch-amerikanische Projekt. Vieles kommt hier zusammen: die lange Erfahrung\, die Offenheit für Neues und die pure Lust aufs Spielen. • Benjamin Koppel (sax) · Jacob Karlzon (p) · Scott Colley (b) · Magnus Öström (dr)
DTSTART:20260607T200000
DTEND:20260607T220000
SUMMARY:Portable Infinity
URL;VALUE=URI:https://nica-jazzclub.de/de/events/portable-infinity-443
DTSTAMP:20260421T170644
UID:69e7aea44d0d8
END:VEVENT
END:VCALENDAR