BEGIN:VCALENDAR
VERSION:2.0
PRODID:-//
CALSCALE:GREGORIAN
X-WR-TIMEZONE:Europe/Berlin
BEGIN:VEVENT
LOCATION:Birdland\, Gärtnerstraße 122\, 20253\, Hamburg\, Germany
DESCRIPTION:Eine elegante Salsa-Experience · das kleine Orquesta bringt kubanischen Groove und lebendige Percussion auf die Bühne · mitreißende Rhythmen\, stilvolles Ambiente\, gemeinschaftliche Tanz-Atmosphäre. • Arturo Martinez (voc) · Benny Brown (trp) · Jonatan Morgenstern (p) · Jair Gonzales (b) · Maurice Remedios (congas) · Ricardo Chicho Castillo (timbales)
DTSTART:20260610T203000
DTEND:20260610T220000
SUMMARY:Salsa Birdland Orquestra
URL;VALUE=URI:
DTSTAMP:20260421T165456
UID:69e7abe0e8832
END:VEVENT
END:VCALENDAR