BEGIN:VCALENDAR
VERSION:2.0
PRODID:-//
CALSCALE:GREGORIAN
X-WR-TIMEZONE:Europe/Berlin
BEGIN:VEVENT
LOCATION:JazzHall\, Harvestehuder Weg 12\, 20148\, Hamburg\, Germany
DESCRIPTION:Im Zentrum stehen Michel Schroeders eigene Arrangements bekannter Popsongs\, die von Studierenden gesungen und in großformatiger Big-Band-Klanglichkeit pointiert in Szene gesetzt werden. • 
DTSTART:20260512T193000
DTEND:20260512T213000
SUMMARY:SchuMu Big Band
URL;VALUE=URI:https://jazzhall.hfmt-hamburg.de/kalender
DTSTAMP:20260421T143322
UID:69e78ab227f2f
END:VEVENT
END:VCALENDAR