BEGIN:VCALENDAR
VERSION:2.0
PRODID:-//
CALSCALE:GREGORIAN
X-WR-TIMEZONE:Europe/Berlin
BEGIN:VEVENT
LOCATION:Nica Jazz Club\, Alter Wall 20\, 20457\, Hamburg\, Germany
DESCRIPTION:Randy Breckers musikalische Offenheit und emotionale Spielweise machen ihn zum idealen Partner für dieses einmalige\, generationenübergreifende Projekt. Gemeinsam zelebrieren sie die Kraft des Live-Jazz – spontan\, virtuos und voller Seele. • Randy Brecker (tr) · Simon Oslender (keys\, p\, org) · Claus Fischer (b) · Jérôme Cardynaals (dr)
DTSTART:20260607T180000
DTEND:20260607T200000
SUMMARY:Simon Oslender Trio meets Randy Brecker
URL;VALUE=URI:https://nica-jazzclub.de/de/events/simon-oslender-trio-meets-randy-brecker-427
DTSTAMP:20260421T170326
UID:69e7adde3fde2
END:VEVENT
END:VCALENDAR