BEGIN:VCALENDAR
VERSION:2.0
PRODID:-//
CALSCALE:GREGORIAN
X-WR-TIMEZONE:Europe/Berlin
BEGIN:VEVENT
LOCATION:Alte Druckerei Ottensen\, Bahrenfelder Straße 73 D\, 22765\, Hamburg\, Germany
DESCRIPTION:Osters Musik lebt von einer tiefen Emotionalität und einer spürbaren spirituellen Ebene. Ihr feinsinniges Klavierspiel und ihre warme\, klangvolle Stimme verleihen den Kompositionen eine besondere Tiefe und Leuchtkraft. Ihr musikalischer Ausdruck ist tief in der Jazztradition verwurzelt und zugleich offen für neue Wege. Jazz\, Klassik und Gospel fließen zusammen mit Einflüssen brasilianischer Musik zu einem Klangbild\, das vielschichtig\, persönlich und voller Wärme ist. • Sophia Oster (voc\, p) · Konstantin Herleinsberger (sax\, fl) · Paul Imm (b) · Rafael Müller (dr)
DTSTART:20260523T200000
DTEND:20260523T220000
SUMMARY:Sophia Oster
URL;VALUE=URI:https://www.alte-druckerei-ottensen.de/events/jazzsongs-2/
DTSTAMP:20260421T143631
UID:69e78b6fe2011
END:VEVENT
END:VCALENDAR