BEGIN:VCALENDAR
VERSION:2.0
PRODID:-//
CALSCALE:GREGORIAN
X-WR-TIMEZONE:Europe/Berlin
BEGIN:VEVENT
LOCATION:Nica Jazz Club\, Alter Wall 20\, 20457\, Hamburg\, Germany
DESCRIPTION:Sorvina zeigt mit ihrer Mixtur aus Hip-Hop\, Soul\, Jazz und Gospel-verliebter Poetry\, dass sie Menschen erreichen und für sich gewinnen kann. Autobiografische Erfahrungen und Themen von queer love bis zu Glaube und Ängsten der Gen Z kleidet sie in irrwitzig groovende Songs. • Sorvina Carr (voc) · Charlotte Colace (voc) · Elias O. Graversen (keys) · Shanice Ruby Bennett (b) · Jakob Hegner (dr)
DTSTART:20260618T200000
DTEND:20260618T220000
SUMMARY:Sorvina
URL;VALUE=URI:https://nica-jazzclub.de/de/events/sorvina-460
DTSTAMP:20260421T193400
UID:69e7d12887c2e
END:VEVENT
END:VCALENDAR