BEGIN:VCALENDAR
VERSION:2.0
PRODID:-//
CALSCALE:GREGORIAN
X-WR-TIMEZONE:Europe/Berlin
BEGIN:VEVENT
LOCATION:St. Pauli Landungsbrücken\, Gärtnerstraße 122\, 20253\, Hamburg\, Germany
DESCRIPTION:San Glaser &amp\; Band begleiten eine 2\,5-stündige Hafenrundfahrt mit ihrem „Best of 20 Years“.<br>Songs aus fünf Alben in neuen Arrangements\, live an Bord im Hamburger Hafen. • Jan-Peter Klöpfel (trp\, acc) · San Glaser (voc\, keys) · Mischa Schumann (p) · Arnd Geise (b) · Felix Dehmel (dr)
DTSTART:20260627T193000
DTEND:20260627T223000
SUMMARY:Summer Jazz Cruise feat. San Glaser – Best of 20 Years
URL;VALUE=URI:https://www.tixforgigs.com/Event/71178
DTSTAMP:20260421T170459
UID:69e7ae3b0a74e
END:VEVENT
END:VCALENDAR