BEGIN:VCALENDAR
VERSION:2.0
PRODID:-//
CALSCALE:GREGORIAN
X-WR-TIMEZONE:Europe/Berlin
BEGIN:VEVENT
LOCATION:Nica Jazz Club\, Alter Wall 20\, 20457\, Hamburg\, Germany
DESCRIPTION:Unter der Leitung von Magnus Lindgren und John Beasley bekommt Herbie Hancocks legendäres Album Secrets ein Update im Big-Band-Sound. Dieses Konzert verspricht nicht nur musikalische Exzellenz und lotet die Grenzen des Jazz raffiniert aus – es nimmt die Zuhörer:innen mit auf eine Reise durch Herbie Hancocks funkige Klangwelten. • Magnus Lindgren (sax\, fl\, cl) · John Beasley (p) · SWR Big Band
DTSTART:20260610T200000
DTEND:20260610T220000
SUMMARY:SWR Big Band - Secrets: The Funky Herbie Hancock
URL;VALUE=URI:https://nica-jazzclub.de/de/events/swr-big-band-secrets-the-funky-herbie-hancock-425
DTSTAMP:20260421T170459
UID:69e7ae3b0930a
END:VEVENT
END:VCALENDAR