BEGIN:VCALENDAR
VERSION:2.0
PRODID:-//
CALSCALE:GREGORIAN
X-WR-TIMEZONE:Europe/Berlin
BEGIN:VEVENT
LOCATION:Brückenstern\, Stresemannstraße 133\, 22769\, Hamburg\, Germany
DESCRIPTION:The Pristine Sound Of Root 70\, das neue Album von Nils Wograms Band Root 70 ist im besten Sinne des Wortes auf eine sehr lebendige\, erfrischende und authentische Weise altmodisch. • Nils Wogram (trb) · Hayden Chisholm (s) · Matt Penman (b) · Jochen Rueckert (dr)<br>
DTSTART:20261209T200000
DTEND:20261209T220000
SUMMARY:The Pristine Sound Of Root 70
URL;VALUE=URI:
DTSTAMP:20260421T192200
UID:69e7ce587da33
END:VEVENT
END:VCALENDAR