BEGIN:VCALENDAR
VERSION:2.0
PRODID:-//
CALSCALE:GREGORIAN
X-WR-TIMEZONE:Europe/Berlin
BEGIN:VEVENT
LOCATION:Brückenstern\, Stresemannstraße 133\, 22769\, Hamburg\, Germany
DESCRIPTION:Mit einem Mix aus Eigenkompositionen im Gewand von The Bad Plus oder dem Brad Mehldau Trio und ausgefallenen Arrangements bekannter Pop-Hits von Radiohead\, Talk Talk oder Björk begeistern die drei jungen Musiker ein Publikum jenseits des Jazz. • Vincent Meissner (p) · Lucas Kolbe (b) · Jan Zeimetz (dr)
DTSTART:20260520T200000
DTEND:20260520T220000
SUMMARY:TITANOBOA
URL;VALUE=URI:
DTSTAMP:20260421T155108
UID:69e79cec5604d
END:VEVENT
END:VCALENDAR